BEGIN:VCALENDAR
PRODID:NingEventWidget-v1
VERSION:2.0
METHOD:PUBLISH
BEGIN:VEVENT
UID:2323372:Event:43751
DTSTAMP:20260425T040544Z
SUMMARY:3 Obstacles to Career Progression
DESCRIPTION:Claudia Crawley will be talking about how to remove the ob
 stacles from your career path and help you achieve your goals\nFree. Â
  Booking advised in case there is a change to the programme\n\nFor mor
 e information visit http://www.goldenlaneestate.org/events/3-obstacles
 -to-career-progression
DTSTART:20150129T123000Z
DTEND:20150129T133000Z
CATEGORIES:self-development, talk
LOCATION:Barbican Library, Barbican Centre
WEBSITE:
URL:
CONTACT:02076380569
ORGANIZER;CN="Geraldine Pote":http://www.goldenlaneestate.org/profile/
 GeraldinePote
ATTACH;FMTTYPE="image/jpeg":
ATTENDEE;ROLE=REQ-PARTICIPANT;PARTSTAT=ACCEPTED;RSVP=TRUE;CN="Iain Mee
 k":http://www.goldenlaneestate.org/profile/IainMeek
ATTENDEE;ROLE=REQ-PARTICIPANT;PARTSTAT=ACCEPTED;RSVP=TRUE;CN="Geraldin
 e Pote":http://www.goldenlaneestate.org/profile/GeraldinePote
END:VEVENT
END:VCALENDAR
