BEGIN:VCALENDAR
PRODID:NingEventWidget-v1
VERSION:2.0
METHOD:PUBLISH
BEGIN:VEVENT
UID:2323372:Event:177099
DTSTAMP:20260423T193241Z
SUMMARY:A free 3-week programme for parents and carers of babies and y
 oung children at Barbican Children's Library
DESCRIPTION:Learning through play – a 3-week workshop by Family Live
 s\nDates: Wednesdays the 29th January, 5th February and 12th February 
 2025 Time: 10-12pm Venue: Barbican Children's Library\nFamily Lives wi
 ll be running a free three-week workshop for parents and carers called
  \"Learning through Play\". This is an opportunity for parents to expl
 ore how children learn and develop through play, the benefits of play 
 and simple inexpensive ways to stimulate your child's curiosity and le
 arning.\nFor more information and book a space, please contact Gill on
  07702 954 891 or email gillw@familylives.org.uk\n\nFor more informati
 on visit http://www.goldenlaneestate.org/events/a-free-3-week-programm
 e-for-parents-and-carers-of-babies-and
DTSTART:20250129T100000Z
DTEND:20250129T120000Z
CATEGORIES:workshop
LOCATION:Barbican Children's Library
WEBSITE:
URL:
CONTACT:020 7628 9447
ORGANIZER;CN="Yuriko Nakano":http://www.goldenlaneestate.org/profile/Y
 urikoNakano
ATTACH;FMTTYPE="image/jpeg":
ATTENDEE;ROLE=REQ-PARTICIPANT;PARTSTAT=ACCEPTED;RSVP=TRUE;CN="Yuriko N
 akano":http://www.goldenlaneestate.org/profile/YurikoNakano
END:VEVENT
END:VCALENDAR
