BEGIN:VCALENDAR
PRODID:NingEventWidget-v1
VERSION:2.0
METHOD:PUBLISH
BEGIN:VEVENT
UID:2323372:Event:72090
DTSTAMP:20260422T055207Z
SUMMARY:Adult Weight Management
DESCRIPTION:Free Lifestyle Weight Management Course\n\nFor more inform
 ation visit http://www.goldenlaneestate.org/events/adult-weight-manage
 ment
DTSTART:20190617T100000Z
DTEND:20190617T110000Z
CATEGORIES:group, session
LOCATION:Golden Lane Community Centre
WEBSITE:
URL:
CONTACT:02076162338
ORGANIZER;CN="Daniel Alleyne":http://www.goldenlaneestate.org/profile/
 DanielAlleyne
ATTACH;FMTTYPE="image/jpeg":https://storage.ning.com/topology/rest/1.0
 /file/get/2858078910?profile=original
ATTENDEE;ROLE=REQ-PARTICIPANT;PARTSTAT=ACCEPTED;RSVP=TRUE;CN="Daniel A
 lleyne":http://www.goldenlaneestate.org/profile/DanielAlleyne
END:VEVENT
END:VCALENDAR
