BEGIN:VCALENDAR
PRODID:NingEventWidget-v1
VERSION:2.0
METHOD:PUBLISH
BEGIN:VEVENT
UID:2323372:Event:36605
DTSTAMP:20260425T145904Z
SUMMARY:Apple Day  October 19th
DESCRIPTION:          Friends of City Gardens Apple Day\nCome and
  Help us celebrate all things appley on Saturday 19th October in the G
 olden Lane Community Hall - 11.30 am - 3pm\nEntrance is free\n\nTaste 
 some heritage apples\nenter the apple recipe competition and enjoy oth
 er residents' home made apple pies, cakes, chutneys etc\nTop chef Sara
 h Moore will demonstrate how to cook the perfect apple cake\nstall wit
 h local goods & produce\nStory telling & activities for children\n\nFu
 rther details to follow\n\nFor more information visit http://www.golde
 nlaneestate.org/events/apple-day-october-19th
DTSTART:20131019T103000Z
DTEND:20131019T140000Z
CATEGORIES:community, event
LOCATION:Golden Lane Estate Community Hall
WEBSITE:
URL:
CONTACT:
ORGANIZER:Friends of City Gardens
ATTACH;FMTTYPE="image/jpeg":
ATTENDEE;ROLE=REQ-PARTICIPANT;PARTSTAT=ACCEPTED;RSVP=TRUE;CN="Steve Da
 szko":http://www.goldenlaneestate.org/profile/SteveDaszko
ATTENDEE;ROLE=REQ-PARTICIPANT;PARTSTAT=ACCEPTED;RSVP=TRUE;CN="Bill Cli
 fford":http://www.goldenlaneestate.org/profile/BillClifford
END:VEVENT
END:VCALENDAR
