BEGIN:VCALENDAR
PRODID:NingEventWidget-v1
VERSION:2.0
METHOD:PUBLISH
BEGIN:VEVENT
UID:2323372:Event:72559
DTSTAMP:20260422T003552Z
SUMMARY:Art of the River - free talk
DESCRIPTION:Barbican Library\nWednesday, 25 September, 12.30—1.30pm\
 nArt of the River\nThe River Thames has inspired artists for over thre
 e hundred years and continues to do so today. Discover a selection of 
 artists from the historical to the contemporary and experience their f
 ascinating views of the river and interpretations of its eventful hist
 ory. Join Alexandra Epps, City of London Guide and Tate Guide to learn
  more and enjoy a celebration of the River during September’s Totall
 y Thames festival.\nFREE—Just turn up!\n\nFor more information visit
  http://www.goldenlaneestate.org/events/art-of-the-river-free-talk
DTSTART:20190925T113000Z
DTEND:20190925T123000Z
CATEGORIES:free, talk, -, just, turn, up
LOCATION:Barbican Library
WEBSITE:
URL:
CONTACT:
ORGANIZER;CN="Helen Tremaine":http://www.goldenlaneestate.org/profile/
 HelenTremaine
ATTACH;FMTTYPE="image/jpeg":https://storage.ning.com/topology/rest/1.0
 /file/get/3552829223?profile=original
ATTENDEE;ROLE=REQ-PARTICIPANT;PARTSTAT=ACCEPTED;RSVP=TRUE;CN="Helen Tr
 emaine":http://www.goldenlaneestate.org/profile/HelenTremaine
END:VEVENT
END:VCALENDAR
