BEGIN:VCALENDAR
PRODID:NingEventWidget-v1
VERSION:2.0
METHOD:PUBLISH
BEGIN:VEVENT
UID:2323372:Event:77219
DTSTAMP:20260421T102118Z
SUMMARY:As Good as Gold
DESCRIPTION:Coming up next at the Charterhouse...\nJoin us for our Oct
 ober online lecture - presented by arts guide and Arts Society lecture
 r Alexandra Epps.  Alex will be immersing us in the story of gold an
 d its significance and symbolism throughout the history of art. Bookin
 g open now (with donation)\n\nFor more information visit http://www.go
 ldenlaneestate.org/events/as-good-as-gold
DTSTART:20201028T190000Z
DTEND:20201028T200000Z
CATEGORIES:online, lecture
LOCATION:The Charterhouse
WEBSITE:http://www.thecharterhouse.org/visit-us/whats-on/
URL:http://www.thecharterhouse.org/visit-us/whats-on/
CONTACT:02072539503
ORGANIZER;CN="Charlotte Borger":http://www.goldenlaneestate.org/profil
 e/CharlotteBorger
ATTACH;FMTTYPE="image/jpeg":https://storage.ning.com/topology/rest/1.0
 /file/get/7952530501?profile=original
ATTENDEE;ROLE=REQ-PARTICIPANT;PARTSTAT=ACCEPTED;RSVP=TRUE;CN="Charlott
 e Borger":http://www.goldenlaneestate.org/profile/CharlotteBorger
END:VEVENT
END:VCALENDAR
