BEGIN:VCALENDAR
PRODID:NingEventWidget-v1
VERSION:2.0
METHOD:PUBLISH
BEGIN:VEVENT
UID:2323372:Event:39623
DTSTAMP:20260425T023717Z
SUMMARY:Barbican Children's Library School Holiday Club!
DESCRIPTION:Suitable for children aged 5+\nFree!\n \nJoin the Barbica
 n Children’s Library Holiday Club. Meet other kids, make something a
 rty and crafty to take home and play from a selection of games.\nAll m
 aterials and fun provided.\n \n \n \n\nFor more information visit h
 ttp://www.goldenlaneestate.org/events/barbican-children-s-library-scho
 ol-holiday-club
DTSTART:20140218T140000Z
DTEND:20140218T160000Z
CATEGORIES:children, "/craft/free"
LOCATION:Barbican Children's Library
WEBSITE:http://www.cityoflondon.gov.uk/barbicanlibrary
URL:http://www.cityoflondon.gov.uk/barbicanlibrary
CONTACT:0207 628 9447
ORGANIZER:Barbican Children's Library
ATTACH;FMTTYPE="image/jpeg":
ATTENDEE;ROLE=REQ-PARTICIPANT;PARTSTAT=ACCEPTED;RSVP=TRUE;CN="Natalie 
 laccohee brown":http://www.goldenlaneestate.org/profile/NatalieLaccohe
 e
END:VEVENT
END:VCALENDAR
