BEGIN:VCALENDAR
PRODID:NingEventWidget-v1
VERSION:2.0
METHOD:PUBLISH
BEGIN:VEVENT
UID:2323372:Event:46596
DTSTAMP:20260424T095812Z
SUMMARY:Bee Mural Celebration
DESCRIPTION:To celebrate the completion of a new bee mural on the Peab
 ody Whitecross Estate there will be a little event open to everybody. 
 There will be various free bee-themed activities such as a demonstrati
 on hive, honey tasting, honey cakes, a bee dome and bees wax candle ma
 king. Do drop in!\n\n\nFor more information visit http://www.goldenlan
 eestate.org/events/bee-mural-celebration
DTSTART:20150715T140000Z
DTEND:20150715T160000Z
CATEGORIES:family, event
LOCATION:On the grass opposite the end of the garages
WEBSITE:https://www.google.co.uk/maps/place/Roscoe+St,+London+EC1Y/@51
 .5232295,-0.094419,17z/data=!3m1!4b1!4m5!1m2!2m1!1sroscoe+street+ec1!3
 m1!1s0x48761b57d142a0c5:0x22da110334124c28
URL:https://www.google.co.uk/maps/place/Roscoe+St,+London+EC1Y/@51.523
 2295,-0.094419,17z/data=!3m1!4b1!4m5!1m2!2m1!1sroscoe+street+ec1!3m1!1
 s0x48761b57d142a0c5:0x22da110334124c28
CONTACT:0207 549 8197 or 07983 508 076
ORGANIZER;CN="Growing Connections at St Lukes":http://www.goldenlanees
 tate.org/profile/GrowingConnections
ATTACH;FMTTYPE="image/jpeg":
ATTENDEE;ROLE=REQ-PARTICIPANT;PARTSTAT=ACCEPTED;RSVP=TRUE;CN="Growing 
 Connections at St Lukes":http://www.goldenlaneestate.org/profile/Growi
 ngConnections
END:VEVENT
END:VCALENDAR
