BEGIN:VCALENDAR
PRODID:NingEventWidget-v1
VERSION:2.0
METHOD:PUBLISH
BEGIN:VEVENT
UID:2323372:Event:68689
DTSTAMP:20260422T204824Z
SUMMARY:Between the Storeys Official Film Screening
DESCRIPTION:\n\nFor more information visit http://www.goldenlaneestate
 .org/events/between-the-storeys-official-film-screening
DTSTART:20181128T190000Z
DTEND:20181128T210000Z
CATEGORIES:screening, event
LOCATION:Golden Lane Community Centre
WEBSITE:https://goo.gl/maps/3Sw4qs6GVgk
URL:https://goo.gl/maps/3Sw4qs6GVgk
CONTACT:02070142812
ORGANIZER:Poet in the City
ATTACH;FMTTYPE="image/jpeg":http://storage.ning.com/topology/rest/1.0/
 file/get/2571589085?profile=original
ATTENDEE;ROLE=REQ-PARTICIPANT;PARTSTAT=ACCEPTED;RSVP=TRUE;CN=Hussain:h
 ttp://www.goldenlaneestate.org/profile/FasahatHussain
ATTENDEE;ROLE=REQ-PARTICIPANT;PARTSTAT=ACCEPTED;RSVP=TRUE;CN="Lara Cos
 tello":http://www.goldenlaneestate.org/profile/LaraCostello
END:VEVENT
END:VCALENDAR
