BEGIN:VCALENDAR
PRODID:NingEventWidget-v1
VERSION:2.0
METHOD:PUBLISH
BEGIN:VEVENT
UID:2323372:Event:72446
DTSTAMP:20260422T020614Z
SUMMARY:Big fat PoohBerger in Aldgate Square Family fun activities
DESCRIPTION:Just a reminder that the City’s event Big Fat Poobergers
  will be in Aldgate Square this coming Thursday, Friday, Saturday and 
 Sunday. The event consists of a number of educational installations cr
 eated by the Bureau of Silly Ideas (BOSI) all about London’s water a
 nd sewage system. It is a fun, interactive event to commemorate the 20
 0th birthday of Joseph Bazalgette, the inventor of London’s sewers. 
 The event will run from 12pm to 6pmeach day. You can find out more abo
 ut it here.\n\nFor more information visit http://www.goldenlaneestate.
 org/events/big-fat-poohberger-in-aldgate-square-family-fun-activities
DTSTART:20190917T110000Z
DTEND:20190917T170000Z
CATEGORIES:fun, for, the, family
LOCATION:Aldgate Square -ministry of silly ideas
WEBSITE:
URL:
CONTACT:
ORGANIZER:-ministry of silly ideas
ATTACH;FMTTYPE="image/jpeg":
ATTENDEE;ROLE=REQ-PARTICIPANT;PARTSTAT=ACCEPTED;RSVP=TRUE;CN="Friends 
 of Fortune St Park":http://www.goldenlaneestate.org/profile/FriendsofF
 ortuneStPark
END:VEVENT
END:VCALENDAR
