BEGIN:VCALENDAR
PRODID:NingEventWidget-v1
VERSION:2.0
METHOD:PUBLISH
BEGIN:VEVENT
UID:2323372:Event:73097
DTSTAMP:20260422T165802Z
SUMMARY:Christmas Craft Market - save the date!!
DESCRIPTION:\r\n\r\ngoldenlane.communitycentre@gmail.com\r\nwww.wearet
 empo.com\n\nFor more information visit http://www.goldenlaneestate.org
 /events/christmas-craft-market-save-the-date
DTSTART:20191130T140000Z
DTEND:20191130T170000Z
CATEGORIES:market
LOCATION:Golden Lane Community Centre
WEBSITE:
URL:
CONTACT:
ORGANIZER:
ATTACH;FMTTYPE="image/jpeg":https://storage.ning.com/topology/rest/1.0
 /file/get/3695128144?profile=original
ATTENDEE;ROLE=REQ-PARTICIPANT;PARTSTAT=ACCEPTED;RSVP=TRUE;CN="GLE Webs
 ite Comms Team":http://www.goldenlaneestate.org/profile/GLEComms
END:VEVENT
END:VCALENDAR
