BEGIN:VCALENDAR
PRODID:NingEventWidget-v1
VERSION:2.0
METHOD:PUBLISH
BEGIN:VEVENT
UID:2323372:Event:45989
DTSTAMP:20260424T101157Z
SUMMARY:City of London Brass Band
DESCRIPTION:20 May holding an open rehearsal (for some reason  not al
 lowed to describe event as concert ) with City of London Brass & Put
 ney Brass Band in St Giles Cripplegate church in the centre of the Bar
 bican complex 8pm Entrance free\nGreat to see you there. Sue\n\nFor mo
 re information visit http://www.goldenlaneestate.org/events/city-of-lo
 ndon-brass-band
DTSTART:20150520T190000Z
DTEND:20150520T203000Z
CATEGORIES:celebration, open, rehearsal
LOCATION:St Giles  Cripplegate
WEBSITE:http://smwhitehead101googlemail.com
URL:http://smwhitehead101googlemail.com
CONTACT:0330112709
ORGANIZER;CN="Susan Whitehead":http://www.goldenlaneestate.org/profile
 /SusanWhitehead
ATTACH;FMTTYPE="image/jpeg":
ATTENDEE;ROLE=REQ-PARTICIPANT;PARTSTAT=ACCEPTED;RSVP=TRUE;CN="Steve Da
 szko":http://www.goldenlaneestate.org/profile/SteveDaszko
ATTENDEE;ROLE=REQ-PARTICIPANT;PARTSTAT=ACCEPTED;RSVP=TRUE;CN="Susan Wh
 itehead":http://www.goldenlaneestate.org/profile/SusanWhitehead
END:VEVENT
END:VCALENDAR
