BEGIN:VCALENDAR
PRODID:NingEventWidget-v1
VERSION:2.0
METHOD:PUBLISH
BEGIN:VEVENT
UID:2323372:Event:68342
DTSTAMP:20260422T203915Z
SUMMARY:City of Stories: Celebrating London's writers and readers
DESCRIPTION:Interested in new writing? Interested in sharing your work
 ?\nA free open mic night, open to all. Share your writing, connect wit
 h other writers of just listen. Also hear from winners of the City of 
 Stories competition and grab a free anthology of winning stories from 
 across London.\nFree but booking essential at https://www.eventbrite.c
 o.uk/e/city-of-stories-open-mic-city-of-london-tickets-49992209043\n\n
 For more information visit http://www.goldenlaneestate.org/events/city
 -of-stories-celebrating-london-s-writers-and-readers-1
DTSTART:20181124T140000Z
DTEND:20181124T153000Z
CATEGORIES:writing
LOCATION:Barbican Library, Barbican Centre
WEBSITE:https://www.cityoflondon.gov.uk/services/libraries-and-archive
 s/our-libraries/Pages/Barbican-Library.aspx
URL:https://www.cityoflondon.gov.uk/services/libraries-and-archives/ou
 r-libraries/Pages/Barbican-Library.aspx
CONTACT:
ORGANIZER;CN="Helen Ford":http://www.goldenlaneestate.org/profile/Hele
 nFord
ATTACH;FMTTYPE="image/jpeg":http://storage.ning.com/topology/rest/1.0/
 file/get/162859750?profile=original
ATTENDEE;ROLE=REQ-PARTICIPANT;PARTSTAT=ACCEPTED;RSVP=TRUE;CN="Helen Fo
 rd":http://www.goldenlaneestate.org/profile/HelenFord
END:VEVENT
END:VCALENDAR
