BEGIN:VCALENDAR
PRODID:NingEventWidget-v1
VERSION:2.0
METHOD:PUBLISH
BEGIN:VEVENT
UID:2323372:Event:72890
DTSTAMP:20260420T133024Z
SUMMARY:Colpia Project Public Meeting
DESCRIPTION:Dear NeighbourÂ \r\nÂ \r\n\r\nAs you may be aware, the COL
 PAI Project Team will be holding a public meeting onÂ Thursday 24 Octo
 ber 2019Â fromÂ 6pm-7pmÂ in theÂ Golden Lane Estate Community Centre, 
 Fann Street, London EC1Y 0RN. This event will be held to share an upda
 te on site activities and to answer any questions you may have about t
 he works.Â \r\nThis meeting will be an opportunity for the local commu
 nity to receive more information regarding site progress. The meeting 
 will feature a Question and Answer session where you can put your quer
 ies to the project team.  To ensure that we have the most up-to-date i
 nformation and relevant team members at the meeting, we ask that any q
 uestions are submitted to the project team by the evening ofÂ Monday 2
 1 October 2019. You can submit your questions through the following me
 thods:\r\nBy email viaÂ info@colpai-project.co.uk\r\nBy telephone viaÂ
  0800 772 0475\r\nVia the comments section on our website atÂ www.colp
 ai-project.co.uk\r\nAn agenda for this meeting will be circulated via 
 email. If youÂ have any queries regarding the public meeting, please d
 o get in touch with the project team viaÂ info@colpai-project.co.ukÂ o
 rÂ 0800 772 0475.\r\n Best wishes  COLPAI Project Team\r\n\n\nFor more
  information visit http://www.goldenlaneestate.org/events/colpia-proje
 ct-public-meeting
DTSTART:20191024T170000Z
DTEND:20191024T180000Z
CATEGORIES:meeting
LOCATION:Golden Lane Community Centre
WEBSITE:
URL:
CONTACT:
ORGANIZER:
ATTACH;FMTTYPE="image/jpeg":
ATTENDEE;ROLE=REQ-PARTICIPANT;PARTSTAT=ACCEPTED;RSVP=TRUE;CN="Alfred Y
 eung":http://www.goldenlaneestate.org/profile/AlfredYeung
ATTENDEE;ROLE=REQ-PARTICIPANT;PARTSTAT=ACCEPTED;RSVP=TRUE;CN="GLE Webs
 ite Comms Team":http://www.goldenlaneestate.org/profile/GLEComms
END:VEVENT
END:VCALENDAR
