BEGIN:VCALENDAR
PRODID:NingEventWidget-v1
VERSION:2.0
METHOD:PUBLISH
BEGIN:VEVENT
UID:2323372:Event:72590
DTSTAMP:20260420T151707Z
SUMMARY:Community Conversation: Our Open Spaces
DESCRIPTION:Our Open Spaces: who uses them, who pays for them\r\nResid
 ents are increasingly concerned about non-resident use of the open spa
 ces on the Estate. These issues were discussed at GLERA’s drop in at
  the Christmas Market 2018 and at the Community Conversation about An
 ti Social Behaviour in February 2019.\r\nThis led to a resolution bein
 g passed at the annual wardmote in March:\r\n“It was Resolved that t
 he City of London Corporation commission a study reporting in no more 
 than one year regarding pedestrian flows through the Golden Lane Estat
 e (\"GLE\") resulting from current and anticipated property developmen
 ts in the vicinity of the GLE and consult with GLE residents regarding
  the current \"private\" status of the GLE as a result of which reside
 nts pay for the maintenance of areas of the GLE that are in practice o
 pen to the public.”\r\n\r\nIn June as a joint initiative the Estate 
 Office and GLERA hosted the first of what will be a number of Communit
 y Conversations to discuss the contradictory private/ public nature of
  our estate and the resulting implications.\r\nYou can read the report
  from the event here. It aims to do the following:\r\n\r\ngive an over
 view of the points and concerns that were raised at the Community Conv
 ersation\r\ndetail information required so residents can be better inf
 ormed as we move towards some creative suggestions and solutions\r\nou
 tline what we can do as residents to make our lived experience of anti
 -social behaviour more visible ie embrace Big Data to record incidents
  of concern\r\nreport back on the City’s response to the resolution 
 to date and the reaction of our Common Councillors\r\n\r\n\r\nCome and
  discuss next steps, offer your ideas and opinions, downstairs in the 
 Community Centre on 24 October 7-9pm\r\nMore info here\r\n\r\n\n\nFor 
 more information visit http://www.goldenlaneestate.org/events/communit
 y-conversation-our-open-spaces-1
DTSTART:20191024T180000Z
DTEND:20191024T200000Z
CATEGORIES:meeting
LOCATION:Golden Lane Community Centre
WEBSITE:
URL:
CONTACT:
ORGANIZER:GLERA
ATTACH;FMTTYPE="image/jpeg":http://storage.ning.com/topology/rest/1.0/
 file/get/2571585485?profile=original
ATTENDEE;ROLE=REQ-PARTICIPANT;PARTSTAT=ACCEPTED;RSVP=TRUE;CN="Alfred Y
 eung":http://www.goldenlaneestate.org/profile/AlfredYeung
ATTENDEE;ROLE=REQ-PARTICIPANT;PARTSTAT=ACCEPTED;RSVP=TRUE;CN="GLE Webs
 ite Comms Team":http://www.goldenlaneestate.org/profile/GLEComms
END:VEVENT
END:VCALENDAR
