BEGIN:VCALENDAR
PRODID:NingEventWidget-v1
VERSION:2.0
METHOD:PUBLISH
BEGIN:VEVENT
UID:2323372:Event:70417
DTSTAMP:20260421T165746Z
SUMMARY:Community Conversation - crime and anti-social behaviour
DESCRIPTION:  \n\nFor more information visit http://www.goldenlanees
 tate.org/events/community-conversation
DTSTART:20190227T190000Z
DTEND:20190227T203000Z
CATEGORIES:glera, meeting
LOCATION:Golden Lane Community Centre
WEBSITE:
URL:
CONTACT:
ORGANIZER:GLERA
ATTACH;FMTTYPE="image/jpeg":http://storage.ning.com/topology/rest/1.0/
 file/get/2571585485?profile=original
ATTENDEE;ROLE=REQ-PARTICIPANT;PARTSTAT=ACCEPTED;RSVP=TRUE;CN="Steve Da
 szko":http://www.goldenlaneestate.org/profile/SteveDaszko
ATTENDEE;ROLE=REQ-PARTICIPANT;PARTSTAT=ACCEPTED;RSVP=TRUE;CN="GLE Webs
 ite Comms Team":http://www.goldenlaneestate.org/profile/GLEComms
END:VEVENT
END:VCALENDAR
