BEGIN:VCALENDAR
PRODID:NingEventWidget-v1
VERSION:2.0
METHOD:PUBLISH
BEGIN:VEVENT
UID:2323372:Event:115806
DTSTAMP:20260421T065635Z
SUMMARY:Coventry Cathedral - Icon and Inspiration
DESCRIPTION:The extraordinary story of the rebuilding of the Cathedral
  as a symbol of peace and reconciliation and its inspiring commitment 
 to the modern. Experience the work of many of the world-class artist
 s associated with its treasures including Jacob Epstein, Elisabeth Fri
 nk, John Piper and Graham Sutherland. Join Alexandra Epps, Arts Soci
 ety Lecturer to learn more..This is a repeat of the talk, given earlie
 r in the year; that one sold out and we had many disappointed people! 
 Thanks to Alex for doing it again.Book here:https://www.eventbrite.co.
 uk/e/coventry ... 8994633421\n\nFor more information visit http://www.
 goldenlaneestate.org/events/coventry-cathedral-icon-and-inspiration
DTSTART:20201202T180000Z
DTEND:20201202T190000Z
CATEGORIES:free, online, illustrated, talk
LOCATION:Zoom
WEBSITE:
URL:
CONTACT:
ORGANIZER;CN="Helen Tremaine":http://www.goldenlaneestate.org/profile/
 HelenTremaine
ATTACH;FMTTYPE="image/jpeg":
ATTENDEE;ROLE=REQ-PARTICIPANT;PARTSTAT=ACCEPTED;RSVP=TRUE;CN="Helen Tr
 emaine":http://www.goldenlaneestate.org/profile/HelenTremaine
END:VEVENT
END:VCALENDAR
