BEGIN:VCALENDAR
PRODID:NingEventWidget-v1
VERSION:2.0
METHOD:PUBLISH
BEGIN:VEVENT
UID:2323372:Event:174039
DTSTAMP:20260423T110128Z
SUMMARY:Cripplegate By Election Hustings (BA)
DESCRIPTION:\n\nFor more information visit http://www.goldenlaneestate
 .org/events/cripplegate-by-election-hustings-ba
DTSTART:20231018T180000Z
DTEND:20231018T193000Z
CATEGORIES:hustings
LOCATION:St Giles Church, Barbican
WEBSITE:
URL:
CONTACT:
ORGANIZER:BA
ATTACH;FMTTYPE="image/jpeg":https://storage.ning.com/topology/rest/1.0
 /file/get/12244846876?profile=original
ATTENDEE;ROLE=REQ-PARTICIPANT;PARTSTAT=ACCEPTED;RSVP=TRUE;CN="GLE Webs
 ite Comms Team":http://www.goldenlaneestate.org/profile/GLEComms
END:VEVENT
END:VCALENDAR
