BEGIN:VCALENDAR
PRODID:NingEventWidget-v1
VERSION:2.0
METHOD:PUBLISH
BEGIN:VEVENT
UID:2323372:Event:174036
DTSTAMP:20260423T103824Z
SUMMARY:Cripplegate By Election Hustings (GLERA)
DESCRIPTION:\n\nFor more information visit http://www.goldenlaneestate
 .org/events/cripplegate-by-election-hustings
DTSTART:20231017T180000Z
DTEND:20231017T193000Z
CATEGORIES:hustings
LOCATION:Golden Lane Community Centre
WEBSITE:
URL:
CONTACT:
ORGANIZER:GLERA
ATTACH;FMTTYPE="image/jpeg":https://storage.ning.com/topology/rest/1.0
 /file/get/12244846876?profile=original
ATTENDEE;ROLE=REQ-PARTICIPANT;PARTSTAT=ACCEPTED;RSVP=TRUE;CN="Christin
 e Clifford":http://www.goldenlaneestate.org/profile/ChristineClifford1
 82
ATTENDEE;ROLE=REQ-PARTICIPANT;PARTSTAT=ACCEPTED;RSVP=TRUE;CN="GLE Webs
 ite Comms Team":http://www.goldenlaneestate.org/profile/GLEComms
END:VEVENT
END:VCALENDAR
