BEGIN:VCALENDAR
PRODID:NingEventWidget-v1
VERSION:2.0
METHOD:PUBLISH
BEGIN:VEVENT
UID:2323372:Event:71875
DTSTAMP:20260422T003718Z
SUMMARY:Crossrail and the Charterhouse Tour
DESCRIPTION:From the Black Death to the founding of a Carthusian monas
 tery to London's newest railway, discover the secrets that lie behind,
  or rather underneath, the Charterhouse. As Crossrail tunnelled its wa
 y across London, the remains of a 14th century plague pit were unearth
 ed. Following on from her series of SOLD OUT walking tours for the Mus
 eum of London, join London Town Tours guide Julie Chandler to find out
  about the tunnelling, station design, the trains, the archaeology, an
 d how Crossrail impacted on life at the Charterhouse on this unique to
 ur.\n\nFor more information visit http://www.goldenlaneestate.org/even
 ts/crossrail-and-the-charterhouse-tour
DTSTART:20190830T093000Z
DTEND:20190830T110000Z
CATEGORIES:tour
LOCATION:The Charterhouse
WEBSITE:http://www.thecharterhouse.org/visit-us/whats-on/
URL:http://www.thecharterhouse.org/visit-us/whats-on/
CONTACT:02038188873
ORGANIZER;CN="Charlotte Borger":http://www.goldenlaneestate.org/profil
 e/CharlotteBorger
ATTACH;FMTTYPE="image/jpeg":https://storage.ning.com/topology/rest/1.0
 /file/get/3335395886?profile=original
ATTENDEE;ROLE=REQ-PARTICIPANT;PARTSTAT=ACCEPTED;RSVP=TRUE;CN="Charlott
 e Borger":http://www.goldenlaneestate.org/profile/CharlotteBorger
END:VEVENT
END:VCALENDAR
