BEGIN:VCALENDAR
PRODID:NingEventWidget-v1
VERSION:2.0
METHOD:PUBLISH
BEGIN:VEVENT
UID:2323372:Event:172993
DTSTAMP:20260424T223620Z
SUMMARY:Desert Island Images Series at Barbican Library
DESCRIPTION:Desert Island Images is a series of conversations with inv
 ited guests who have a story to tell and a passionate relationship to 
 the world of images, hosted by the Barbican Library.The next Desert Is
 land Images will be on Tuesday 25th April, 6-7.15pm! Chris Nineham, vi
 ce chair of Stop the War Coalition and author, will discuss his desert
  Island Images with the host Alistair Cartwright. Tickets are availabl
 e from the Barbican Box Office.\nDesert Island Images: Chris Nineham |
  Barbican\n\nFor more information visit http://www.goldenlaneestate.or
 g/events/desert-island-images-series-at-barbican-library-2
DTSTART:20230425T170000Z
DTEND:20230425T181500Z
CATEGORIES:talk
LOCATION:Barbican Library
WEBSITE:
URL:
CONTACT:02076380569
ORGANIZER;CN="Yuriko Nakano":http://www.goldenlaneestate.org/profile/Y
 urikoNakano
ATTACH;FMTTYPE="image/jpeg":
ATTENDEE;ROLE=REQ-PARTICIPANT;PARTSTAT=ACCEPTED;RSVP=TRUE;CN="Yuriko N
 akano":http://www.goldenlaneestate.org/profile/YurikoNakano
END:VEVENT
END:VCALENDAR
