BEGIN:VCALENDAR
PRODID:NingEventWidget-v1
VERSION:2.0
METHOD:PUBLISH
BEGIN:VEVENT
UID:2323372:Event:72430
DTSTAMP:20260420T100747Z
SUMMARY:Djembe drumming workshop
DESCRIPTION:After last year's successful class we are happy to announc
 e that Seneke Sillah and Mbilla Arts are returning to Barbican Music 
 Library to provide another free 1.5 hour drumming workshop.The worksho
 p is suitable for all levels: beginners, intermediate, or advanced an
 d drums will be provided. Learn rhythms from Guinea and the Senegambia
  region of West Africa.  Space is limited to fifteen participants so
  booking is essential. Please call the library on 020 76380672 or emai
 l barbicanmusic@cityoflondon.gov.uk to reserve a spot. Please note thi
 s event is aimed at adults or older children aged 10 plus.\n\n\n\nFor 
 more information visit http://www.goldenlaneestate.org/events/djembe-d
 rumming-workshop
DTSTART:20191022T130000Z
DTEND:20191022T143000Z
CATEGORIES:music, workshop
LOCATION:Barbican Music Library
WEBSITE:https://www.barbican.org.uk/your-visit/general-info/library
URL:https://www.barbican.org.uk/your-visit/general-info/library
CONTACT:020 76380672
ORGANIZER;CN=BarbicanMusicLibrary:http://www.goldenlaneestate.org/prof
 ile/BarbicanMusicLibrary
ATTACH;FMTTYPE="image/jpeg":https://storage.ning.com/topology/rest/1.0
 /file/get/3547966290?profile=original
ATTENDEE;ROLE=REQ-PARTICIPANT;PARTSTAT=ACCEPTED;RSVP=TRUE;CN=BarbicanM
 usicLibrary:http://www.goldenlaneestate.org/profile/BarbicanMusicLibra
 ry
END:VEVENT
END:VCALENDAR
