BEGIN:VCALENDAR
PRODID:NingEventWidget-v1
VERSION:2.0
METHOD:PUBLISH
BEGIN:VEVENT
UID:2323372:Event:169610
DTSTAMP:20260424T205202Z
SUMMARY:Drawn Blank - art exhibition and sale
DESCRIPTION:Working from books found within the Barbican Library colle
 ction, Emma Louise Hollaway explores the relationship between gender a
 nd drawing.  A lifelong member of the Barbican Library and a MA Drawi
 ng graduate from Wimbledon College of Arts, this exhibition combines h
 er passion for reading and drawing.\nThe exhibition includes a reinter
 pretation of the Barbican Library’s legendary Crime Collection to re
 ference the context and architecture of the Barbican Estate.\nThe exhi
 bition is in the library and can be viewed during our opening hours.\n
 \n\n\nFor more information visit http://www.goldenlaneestate.org/event
 s/drawn-blank-art-exhibition-and-sale
DTSTART:20220603T230000Z
DTEND:20220629T225900Z
CATEGORIES:exhibition, and, sale
LOCATION:Barbican Library, Barbican Centre.
WEBSITE:
URL:
CONTACT:
ORGANIZER;CN="Helen Tremaine":http://www.goldenlaneestate.org/profile/
 HelenTremaine
ATTACH;FMTTYPE="image/jpeg":
ATTENDEE;ROLE=REQ-PARTICIPANT;PARTSTAT=ACCEPTED;RSVP=TRUE;CN="Helen Tr
 emaine":http://www.goldenlaneestate.org/profile/HelenTremaine
END:VEVENT
END:VCALENDAR
