BEGIN:VCALENDAR
PRODID:NingEventWidget-v1
VERSION:2.0
METHOD:PUBLISH
BEGIN:VEVENT
UID:2323372:Event:37026
DTSTAMP:20260425T021405Z
SUMMARY:Edible Garden Open Day - Golden Lane Allotments
DESCRIPTION:See what we've been growing - from artichokes and aubergin
 es to strawberries and sunflowers. The allotments will be open to the 
 public between 11am and 3pm.  Some of the growers will be there to sh
 ow visitors around and there will be an exhibition in the Ralph Perrin
 g room.  Golden Lane residents are very welcome.   Refreshments and 
 activities.\n\nFor more information visit http://www.goldenlaneestate.
 org/events/edible-garden-open-day-golden-lane-allotments
DTSTART:20130921T100000Z
DTEND:20130921T140000Z
CATEGORIES:open, day
LOCATION:By the Ralph Perring Community room
WEBSITE:http://www.capitalgrowth.org/resources/files/OpenGardensDay_Bo
 oklet2013.pdf
URL:http://www.capitalgrowth.org/resources/files/OpenGardensDay_Bookle
 t2013.pdf
CONTACT:
ORGANIZER;CN="Anna Parkinson":http://www.goldenlaneestate.org/profile/
 AnnaParkinson
ATTACH;FMTTYPE="image/jpeg":http://storage.ning.com/topology/rest/1.0/
 file/get/2571573170?profile=original
ATTENDEE;ROLE=REQ-PARTICIPANT;PARTSTAT=ACCEPTED;RSVP=TRUE;CN="Anna Par
 kinson":http://www.goldenlaneestate.org/profile/AnnaParkinson
ATTENDEE;ROLE=REQ-PARTICIPANT;PARTSTAT=TENTATIVE;RSVP=TRUE;CN="Steve D
 aszko":http://www.goldenlaneestate.org/profile/SteveDaszko
END:VEVENT
END:VCALENDAR
