BEGIN:VCALENDAR
PRODID:NingEventWidget-v1
VERSION:2.0
METHOD:PUBLISH
BEGIN:VEVENT
UID:2323372:Event:74051
DTSTAMP:20260420T202041Z
SUMMARY:Family Half Term Fun
DESCRIPTION:Join us during opening hours all through half-term for FRE
 E drop-in colouring and drawing, dressing up in Tudor costumes and mon
 ks habits, family trails and much more!\n\nFor more information visit 
 http://www.goldenlaneestate.org/events/family-half-term-fun
DTSTART:20200218T110000Z
DTEND:20200222T170000Z
CATEGORIES:family, workshop
LOCATION:The Charterhouse
WEBSITE:http://www.thecharterhouse.org/visit-us/whats-on/
URL:http://www.thecharterhouse.org/visit-us/whats-on/
CONTACT:02038188873
ORGANIZER;CN="Charlotte Borger":http://www.goldenlaneestate.org/profil
 e/CharlotteBorger
ATTACH;FMTTYPE="image/jpeg":https://storage.ning.com/topology/rest/1.0
 /file/get/3856254491?profile=original
ATTENDEE;ROLE=REQ-PARTICIPANT;PARTSTAT=ACCEPTED;RSVP=TRUE;CN="Charlott
 e Borger":http://www.goldenlaneestate.org/profile/CharlotteBorger
END:VEVENT
END:VCALENDAR
