BEGIN:VCALENDAR
PRODID:NingEventWidget-v1
VERSION:2.0
METHOD:PUBLISH
BEGIN:VEVENT
UID:2323372:Event:69699
DTSTAMP:20260421T203716Z
SUMMARY:February Family Tour
DESCRIPTION:Follow Thomas the Talbot on a tour of the Charterhouse fol
 lowing our exciting and intriguing family trail to discover some very 
 famous moments in history, and some surprising facts about how people 
 lived in this extraordinary site that dates back to 1348. Cost: adult 
 £10 (2 kids free) – suitable for age 4+ \nPlease note this tour run
 s twice on the same day. The second 45 minute tour commences at 12.00.
 \n\nFor more information visit http://www.goldenlaneestate.org/events/
 february-family-tour
DTSTART:20190224T110000Z
DTEND:20190224T114500Z
CATEGORIES:family, history, tour
LOCATION:The Charterhouse
WEBSITE:http://www.thecharterhouse.org/visit-us/whats-on/
URL:http://www.thecharterhouse.org/visit-us/whats-on/
CONTACT:02038188873
ORGANIZER;CN="Charlotte Borger":http://www.goldenlaneestate.org/profil
 e/CharlotteBorger
ATTACH;FMTTYPE="image/jpeg":https://storage.ning.com/topology/rest/1.0
 /file/get/638255818?profile=original
ATTENDEE;ROLE=REQ-PARTICIPANT;PARTSTAT=ACCEPTED;RSVP=TRUE;CN="Charlott
 e Borger":http://www.goldenlaneestate.org/profile/CharlotteBorger
END:VEVENT
END:VCALENDAR
