BEGIN:VCALENDAR
PRODID:NingEventWidget-v1
VERSION:2.0
METHOD:PUBLISH
BEGIN:VEVENT
UID:2323372:Event:176493
DTSTAMP:20260420T220854Z
SUMMARY:Carols in the Park Wednesday 11th Dec 5pm -7pm
DESCRIPTION:\nJoin us for Carols in the Fortune Street Park on Decembe
 r 11th, from 5-7PM.\nEnjoy an evening by the firepit with refreshments
 , s’mores, and the festive sounds of a live brass quintet from Guild
 hall.\nBring your friends and family, singing voices and torch or lant
 ern..\nFriends of fortune Street Park.\n\n\nFor more information visit
  http://www.goldenlaneestate.org/events/festive-tunes-and-carols-in-th
 e-park
DTSTART:20241211T170000Z
DTEND:20241211T193000Z
CATEGORIES:festive, singalong
LOCATION:Fortune Street Park
WEBSITE:http://www.fortunestreetpark.com
URL:http://www.fortunestreetpark.com
CONTACT:
ORGANIZER:Friends of Fortune street park group
ATTACH;FMTTYPE="image/jpeg":
ATTENDEE;ROLE=REQ-PARTICIPANT;PARTSTAT=ACCEPTED;RSVP=TRUE;CN=Jax:http:
 //www.goldenlaneestate.org/profile/jacqui
END:VEVENT
END:VCALENDAR
