BEGIN:VCALENDAR
PRODID:NingEventWidget-v1
VERSION:2.0
METHOD:PUBLISH
BEGIN:VEVENT
UID:2323372:Event:46020
DTSTAMP:20260424T033013Z
SUMMARY:Fit for the future Health MOT
DESCRIPTION:Get the low down on your blood pressure and cholesterol an
 d get a professional assessment of your risk of diabetes and heart dis
 ease.  Then take action for a fitter future.  Free session for City 
 of London residents and manual workers aged 40-74 who have not previo
 usly been diagnosed with heart disease, stroke diabetes, high choleste
 rol, high blood pressure or kidney disease.\nNo need to book.  Just d
 rop in between 11.00 am and 3.00pm\nFree pedometer and bag\n\nFor more
  information visit http://www.goldenlaneestate.org/events/fit-for-the-
 future-health-mot
DTSTART:20150615T100000Z
DTEND:20150615T140000Z
CATEGORIES:health
LOCATION:Barbican Library
WEBSITE:
URL:
CONTACT:02076380569
ORGANIZER;CN="Geraldine Pote":http://www.goldenlaneestate.org/profile/
 GeraldinePote
ATTACH;FMTTYPE="image/jpeg":
ATTENDEE;ROLE=REQ-PARTICIPANT;PARTSTAT=ACCEPTED;RSVP=TRUE;CN="Geraldin
 e Pote":http://www.goldenlaneestate.org/profile/GeraldinePote
END:VEVENT
END:VCALENDAR
