BEGIN:VCALENDAR
PRODID:NingEventWidget-v1
VERSION:2.0
METHOD:PUBLISH
BEGIN:VEVENT
UID:2323372:Event:46155
DTSTAMP:20260424T065811Z
SUMMARY:Free health MOT
DESCRIPTION:Get the low down on your blood pressure and cholesterol an
 d get a professional assessment of your risk of diabetes and heart dis
 ease.  Then take action for a fitter future.  Free session for resid
 ents and manual workers aged 40-74 who have not previously been diagno
 sed with heart disease, stroke diabetes, high cholesterol, high blood 
 pressure or kidney disease.\nNo need to book.  Just drop in between 1
 1.00 am and 3.00pm\n\nFor more information visit http://www.goldenlane
 estate.org/events/free-health-mot
DTSTART:20150609T100000Z
DTEND:20150609T140000Z
CATEGORIES:health
LOCATION:Barbican Library
WEBSITE:
URL:
CONTACT:02076380569
ORGANIZER;CN="Geraldine Pote":http://www.goldenlaneestate.org/profile/
 GeraldinePote
ATTACH;FMTTYPE="image/jpeg":
ATTENDEE;ROLE=REQ-PARTICIPANT;PARTSTAT=ACCEPTED;RSVP=TRUE;CN="Geraldin
 e Pote":http://www.goldenlaneestate.org/profile/GeraldinePote
END:VEVENT
END:VCALENDAR
