BEGIN:VCALENDAR
PRODID:NingEventWidget-v1
VERSION:2.0
METHOD:PUBLISH
BEGIN:VEVENT
UID:2323372:Event:56795
DTSTAMP:20260419T211957Z
SUMMARY:Free mindfulness sssion
DESCRIPTION:Breda Dunne will take us through a mindfulness exercise an
 d send us on our way with the tools to cope with our busy lives\nFREE\
 n\nFor more information visit http://www.goldenlaneestate.org/events/f
 ree-mindfulness-sssion
DTSTART:20170727T113000Z
DTEND:20170727T120000Z
CATEGORIES:well, being
LOCATION:Barbican Library Barbican Centre
WEBSITE:http://www.cityoflondon.gov.uk/libraries
URL:http://www.cityoflondon.gov.uk/libraries
CONTACT:020 7638 0569
ORGANIZER;CN="Geraldine Pote":http://www.goldenlaneestate.org/profile/
 GeraldinePote
ATTACH;FMTTYPE="image/jpeg":
ATTENDEE;ROLE=REQ-PARTICIPANT;PARTSTAT=ACCEPTED;RSVP=TRUE;CN="Geraldin
 e Pote":http://www.goldenlaneestate.org/profile/GeraldinePote
END:VEVENT
END:VCALENDAR
