BEGIN:VCALENDAR
PRODID:NingEventWidget-v1
VERSION:2.0
METHOD:PUBLISH
BEGIN:VEVENT
UID:2323372:Event:173342
DTSTAMP:20260420T160103Z
SUMMARY:FREE Piano Recital by Billy Zhu
DESCRIPTION:\n\nFor more information visit http://www.goldenlaneestate
 .org/events/free-piano-recital-by-billy-zhu
DTSTART:20230618T130000Z
DTEND:20230618T140000Z
CATEGORIES:free, concert, -, donations, welcome
LOCATION:JEWIN WELSH CHAPEL
WEBSITE:
URL:
CONTACT:
ORGANIZER:Jewin Welsh Church
ATTACH;FMTTYPE="image/jpeg":https://storage.ning.com/topology/rest/1.0
 /file/get/11696611471?profile=original
ATTENDEE;ROLE=REQ-PARTICIPANT;PARTSTAT=ACCEPTED;RSVP=TRUE;CN="Gaby Rob
 ertshaw":http://www.goldenlaneestate.org/profile/GabyRobertshaw
END:VEVENT
END:VCALENDAR
