BEGIN:VCALENDAR
PRODID:NingEventWidget-v1
VERSION:2.0
METHOD:PUBLISH
BEGIN:VEVENT
UID:2323372:Event:74502
DTSTAMP:20260419T183717Z
SUMMARY:Free screening DOWNTON ABBEY Wed 18 Mar @ 1.30 NEW TIME- Golde
 n Lane
DESCRIPTION:Alice from Age UK City of London runs a monthly FREE film 
 screening on a Wednesday afternoon at the Golden Lane Community Centre
  downstairs. \nThe next showing will be WED 18 MARCH starting at 1.30
 pm PLEASE NOTE THE NEW TIME as the film is a little longer then usual 
 and we need to finish at 4pm. \nThe film will be DOWNTON ABBEY and al
 l are welcome - if in doubt contact Alice on awestlake@ageuklondon.org
 .uk or call 020 78206770\nThe monthly film screenings are part of a pr
 ogramme of activities that take place every Wed afternoon downstairs a
 t Golden Lane Community Centre.\nSee you at the Golden Social soon\n\n
 For more information visit http://www.goldenlaneestate.org/events/free
 -screening-downton-abbey-wed-18-mar-1-30-new-time-golden-lane
DTSTART:20200318T133000Z
DTEND:20200318T160000Z
CATEGORIES:film, screening, free
LOCATION:Golden Lane Community Centre - downstairs
WEBSITE:
URL:
CONTACT:020 78206776
ORGANIZER;CN="Sharon Tynan":http://www.goldenlaneestate.org/profile/Sh
 aronTynan
ATTACH;FMTTYPE="image/jpeg":
ATTENDEE;ROLE=REQ-PARTICIPANT;PARTSTAT=ACCEPTED;RSVP=TRUE;CN="Sharon T
 ynan":http://www.goldenlaneestate.org/profile/SharonTynan
END:VEVENT
END:VCALENDAR
