BEGIN:VCALENDAR
PRODID:NingEventWidget-v1
VERSION:2.0
METHOD:PUBLISH
BEGIN:VEVENT
UID:2323372:Event:54337
DTSTAMP:20260419T162920Z
SUMMARY:FREE Weekly Gardening Session (Tuesdays in EC1)
DESCRIPTION:St Luke’s Gardening Group meet every Tuesday.  Come alo
 ng and develop your green fingers with this fun, friendly group.  \nM
 eet on the first floor terrace if it’s warm enough or if not the Clu
 b Room (first floor).\nSession ends with tea and biscuits together.\nF
 ree events - all welcome\nBook directly at St Luke’s Community Centr
 e receptionSt Lukes Community Centre90 Central StreetLondon EC1V 8AJ02
 0 7549 8181MAP: https://goo.gl/maps/1Z6ePGSMRps\n\nFor more informati
 on visit http://www.goldenlaneestate.org/events/free-weekly-gardening-
 session
DTSTART:20170711T130000Z
DTEND:20170711T143000Z
CATEGORIES:free, gardening, community, volunteering
LOCATION:St Lukes Community Centre
WEBSITE:https://www.google.co.uk/maps/place/St+Luke's+Community+Centre
 /@51.5265542,-0.0984176,17z/data=!3m1!4b1!4m5!3m4!1s0x48761b5836a5ad95
 :0xfb1025b3c7a53ed8!8m2!3d51.5265542!4d-0.0962289?hl=en
URL:https://www.google.co.uk/maps/place/St+Luke's+Community+Centre/@51
 .5265542,-0.0984176,17z/data=!3m1!4b1!4m5!3m4!1s0x48761b5836a5ad95:0xf
 b1025b3c7a53ed8!8m2!3d51.5265542!4d-0.0962289?hl=en
CONTACT:020 7549 8181
ORGANIZER;CN="Growing Connections at St Lukes":http://www.goldenlanees
 tate.org/profile/GrowingConnections
ATTACH;FMTTYPE="image/jpeg":http://storage.ning.com/topology/rest/1.0/
 file/get/2571585546?profile=original
ATTENDEE;ROLE=REQ-PARTICIPANT;PARTSTAT=ACCEPTED;RSVP=TRUE;CN="Growing 
 Connections at St Lukes":http://www.goldenlaneestate.org/profile/Growi
 ngConnections
END:VEVENT
END:VCALENDAR
