BEGIN:VCALENDAR
PRODID:NingEventWidget-v1
VERSION:2.0
METHOD:PUBLISH
BEGIN:VEVENT
UID:2323372:Event:44676
DTSTAMP:20260424T052723Z
SUMMARY:FYI Festival at The Guildhall Yard on 13th June 2015 from noon
  to 4.30pm
DESCRIPTION:This year`s FYI Festival takes place on the 13th June, in 
 The Guildhall Yard, as it did last year.  From noon to 4.30pm.   P
 romises to be an even bigger and better event than last year!\n\nFor m
 ore information visit http://www.goldenlaneestate.org/events/fyi-festi
 val-at-the-guildhall-yard-on-13th-june-2015-from-noon-to
DTSTART:20150613T110000Z
DTEND:20150613T153000Z
CATEGORIES:family, festival
LOCATION:The Guildhall Yard
WEBSITE:
URL:
CONTACT:
ORGANIZER:Will Cooper
ATTACH;FMTTYPE="image/jpeg":
ATTENDEE;ROLE=REQ-PARTICIPANT;PARTSTAT=ACCEPTED;RSVP=TRUE;CN="Steve Da
 szko":http://www.goldenlaneestate.org/profile/SteveDaszko
END:VEVENT
END:VCALENDAR
