BEGIN:VCALENDAR
PRODID:NingEventWidget-v1
VERSION:2.0
METHOD:PUBLISH
BEGIN:VEVENT
UID:2323372:Event:46159
DTSTAMP:20260424T051232Z
SUMMARY:Get a good night's sleep
DESCRIPTION:Do you long for peaceful, restful sleep?  Would you like 
 to wake refreshed and raring to go.  Come along to our seminar led by
  Beatrix Schmidt and let her share some tips with you.\nFree event.  
 All welcome.  No need to book but if you let us know you are coming w
 e can let you know of any changes\n\nFor more information visit http:/
 /www.goldenlaneestate.org/events/get-a-good-night-s-sleep
DTSTART:20150618T113000Z
DTEND:20150618T123000Z
CATEGORIES:health
LOCATION:Barbican Library
WEBSITE:
URL:
CONTACT:02076380569
ORGANIZER;CN="Geraldine Pote":http://www.goldenlaneestate.org/profile/
 GeraldinePote
ATTACH;FMTTYPE="image/jpeg":http://storage.ning.com/topology/rest/1.0/
 file/get/2571574325?profile=original
ATTENDEE;ROLE=REQ-PARTICIPANT;PARTSTAT=ACCEPTED;RSVP=TRUE;CN="Geraldin
 e Pote":http://www.goldenlaneestate.org/profile/GeraldinePote
END:VEVENT
END:VCALENDAR
