BEGIN:VCALENDAR
PRODID:NingEventWidget-v1
VERSION:2.0
METHOD:PUBLISH
BEGIN:VEVENT
UID:2323372:Event:99496
DTSTAMP:20260421T084304Z
SUMMARY:Get your bike checked out before lockdown
DESCRIPTION:\n\nFor more information visit http://www.goldenlaneestate
 .org/events/get-your-bike-checked-out-before-lockdown
DTSTART:20201104T130000Z
DTEND:20201104T170000Z
CATEGORIES:cycle, safety
LOCATION:Aldgate square next to church and school
WEBSITE:
URL:
CONTACT:
ORGANIZER:City police
ATTACH;FMTTYPE="image/jpeg":
ATTENDEE;ROLE=REQ-PARTICIPANT;PARTSTAT=ACCEPTED;RSVP=TRUE;CN=Jax:http:
 //www.goldenlaneestate.org/profile/jacqui
END:VEVENT
END:VCALENDAR
