BEGIN:VCALENDAR
PRODID:NingEventWidget-v1
VERSION:2.0
METHOD:PUBLISH
BEGIN:VEVENT
UID:2323372:Event:173495
DTSTAMP:20260420T154531Z
SUMMARY:GIVE AND TAKE DAY
DESCRIPTION:\n\nFor more information visit http://www.goldenlaneestate
 .org/events/give-and-take-day-1
DTSTART:20230616T230000Z
DTEND:20230617T225900Z
CATEGORIES:free
LOCATION:GOLDEN LANE COMMUNITY CENTRE
WEBSITE:
URL:
CONTACT:
ORGANIZER:CITY OF LONDON
ATTACH;FMTTYPE="image/jpeg":
ATTENDEE;ROLE=REQ-PARTICIPANT;PARTSTAT=ACCEPTED;RSVP=TRUE;CN="Gaby Rob
 ertshaw":http://www.goldenlaneestate.org/profile/GabyRobertshaw
END:VEVENT
END:VCALENDAR
