BEGIN:VCALENDAR
PRODID:NingEventWidget-v1
VERSION:2.0
METHOD:PUBLISH
BEGIN:VEVENT
UID:2323372:Event:41542
DTSTAMP:20260424T142222Z
SUMMARY:Give and Take Day Saturday 17th May
DESCRIPTION:  When: Saturday 17th May 10.00 - 15.00\nWhere: St Giles
  Cripplegate Church, Fore Street \nA chance for you to give away item
 s you no longer need, and take items that you do, all for free! \nGiv
 e: Bring your unwanted items to the Church between 10.00 and 12.00. Th
 e City's Recycling Team will accept any unwanted item in a good reusab
 le condition - furniture, toys, clothes, books, computers and other el
 ectrical items. \nTake: Come and browse between 13.00 and 15.00 and t
 ake items for FREE. Previous Give and Take Days have seen pianos, rare
  books and fine furniture donated and rehomed!\nAny items which are no
 t taken by the end of the day will be taken to the next Give and Take 
 Day (date TBC), donated to charity or disposed of appropriately. \nRe
 cycle your used cooking oil - please bring used cooking oil to St Gile
 s Cripplegate Church in a secure, closed container (e.g. plastic bottl
 e etc.), and you’ll be directed to the recycling point. \nlow energ
 y bulbs - (but not “strip” lighting) \nBatteries- (all sizes incl
 uding hearing aid batteries, laptop batteries etc.). \nFor further in
 formation on the event, please visit www.cityoflondon.gov.uk/giveandta
 ke,  call 020 7606 3110 or follow us on Twitter, @GreenSqMile.\n \n\
 nFor more information visit http://www.goldenlaneestate.org/events/giv
 e-and-take-day-saturday-17th-may
DTSTART:20140517T090000Z
DTEND:20140517T140000Z
CATEGORIES:recycling
LOCATION:St Giles Cripplegate Church, Fore Street
WEBSITE:
URL:
CONTACT:
ORGANIZER:City Recycling Team
ATTACH;FMTTYPE="image/jpeg":
ATTENDEE;ROLE=REQ-PARTICIPANT;PARTSTAT=ACCEPTED;RSVP=TRUE;CN="Sarah Hu
 dson":http://www.goldenlaneestate.org/profile/SarahHudson
END:VEVENT
END:VCALENDAR
