BEGIN:VCALENDAR
PRODID:NingEventWidget-v1
VERSION:2.0
METHOD:PUBLISH
BEGIN:VEVENT
UID:2323372:Event:40461
DTSTAMP:20260424T155126Z
SUMMARY:GLERA general meeting
DESCRIPTION:\nWelcome and Introductions;\nMinutes of last meeting;\nMa
 tters arising;\nEstate Matters  (Laurence Jones) - Future funding for
  GLERA, Update re water meters, Talk back cards, Pets survey;\nReports
  – Chair , Secretary, Treasurer, Committee’s proposal for administ
 ration of Improvement budget, Market Day;\n  Tenant Matters;\n  Leas
 eholder Matters;\n  AGM – process for voting etc;\n Any other busi
 ness;\n Dates of next meeting 10 June (AGM).\n\n\nFor more informatio
 n visit http://www.goldenlaneestate.org/events/glera-general-meeting-4
DTSTART:20140408T183000Z
DTEND:20140408T200000Z
CATEGORIES:general, meeting
LOCATION:Golden Lane Community Centre
WEBSITE:
URL:
CONTACT:
ORGANIZER;CN="Daniel Elson":http://www.goldenlaneestate.org/profile/Da
 nielElson
ATTACH;FMTTYPE="image/jpeg":
ATTENDEE;ROLE=REQ-PARTICIPANT;PARTSTAT=ACCEPTED;RSVP=TRUE;CN="Steve Da
 szko":http://www.goldenlaneestate.org/profile/SteveDaszko
ATTENDEE;ROLE=REQ-PARTICIPANT;PARTSTAT=ACCEPTED;RSVP=TRUE;CN="Daniel E
 lson":http://www.goldenlaneestate.org/profile/DanielElson
END:VEVENT
END:VCALENDAR
