BEGIN:VCALENDAR
PRODID:NingEventWidget-v1
VERSION:2.0
METHOD:PUBLISH
BEGIN:VEVENT
UID:2323372:Event:44941
DTSTAMP:20260424T142306Z
SUMMARY:GLERA meeting on the 21st April 2015 - Using \"The Cloud\".
DESCRIPTION:Those interested in using \"The Cloud\" may like to know t
 hat a talk will be featured on this subject at the next GLERA meeting 
 on the 21st April 2015 @ 7.30pm.\n\nFor more information visit http://
 www.goldenlaneestate.org/events/glera-meeting-on-the-21st-april-2015-u
 sing-the-cloud
DTSTART:20150421T183000Z
DTEND:20150421T200000Z
CATEGORIES:residents, "meeting."
LOCATION:The Sir Ralph Perring Centre.
WEBSITE:
URL:
CONTACT:
ORGANIZER;CN="Steve Daszko":http://www.goldenlaneestate.org/profile/St
 eveDaszko
ATTACH;FMTTYPE="image/jpeg":
ATTENDEE;ROLE=REQ-PARTICIPANT;PARTSTAT=ACCEPTED;RSVP=TRUE;CN=nathan:ht
 tp://www.goldenlaneestate.org/profile/nathan
ATTENDEE;ROLE=REQ-PARTICIPANT;PARTSTAT=ACCEPTED;RSVP=TRUE;CN="Andrew B
 rian Hickman":http://www.goldenlaneestate.org/profile/AndrewBrianHickm
 an
ATTENDEE;ROLE=REQ-PARTICIPANT;PARTSTAT=ACCEPTED;RSVP=TRUE;CN="Steve Da
 szko":http://www.goldenlaneestate.org/profile/SteveDaszko
END:VEVENT
END:VCALENDAR
