BEGIN:VCALENDAR
PRODID:NingEventWidget-v1
VERSION:2.0
METHOD:PUBLISH
BEGIN:VEVENT
UID:2323372:Event:71650
DTSTAMP:20260422T054859Z
SUMMARY:GLERA Quiz Night
DESCRIPTION: \n\nFor more information visit http://www.goldenlaneesta
 te.org/events/glera-quiz-night
DTSTART:20190614T180000Z
DTEND:20190614T203000Z
CATEGORIES:glera, meeting
LOCATION:Golden Lane Community Centre
WEBSITE:
URL:
CONTACT:
ORGANIZER:GLERA
ATTACH;FMTTYPE="image/jpeg":http://storage.ning.com/topology/rest/1.0/
 file/get/2571585485?profile=original
ATTENDEE;ROLE=REQ-PARTICIPANT;PARTSTAT=ACCEPTED;RSVP=TRUE;CN="GLE Webs
 ite Comms Team":http://www.goldenlaneestate.org/profile/GLEComms
END:VEVENT
END:VCALENDAR
