BEGIN:VCALENDAR
PRODID:NingEventWidget-v1
VERSION:2.0
METHOD:PUBLISH
BEGIN:VEVENT
UID:2323372:Event:173048
DTSTAMP:20260419T151818Z
SUMMARY:Golden Lane Bike Project Planning Application Briefing and com
 munity cafe
DESCRIPTION:Two years ago the Golden Lane Bike Project was set up to t
 ackle the poor quality and shortage of secure bike parking provision o
 n the estate. Following detailed consultations and discussions with re
 sidents, a successful funding application was made to the City of Lond
 on Community Infrastructure Levy Fund. £50,000 has been awarded to re
 furbish existing bike sheds, expand others and install completely new 
 safe and secure facilities across the estate. A planning application i
 s due to be submitted to the City of London Corporation over the next 
 few weeks.\r\nCome along to a briefing from the project managers who w
 ill outline the content of the planning application.\r\nSaturday 20th 
 May at 4-00pm. Community cafe from 3-30pm. Ralph Perring Centre\r\nPle
 ase note that the drawings to be submitted with the application will b
 e uploaded to the Imagine Golden Lane website. If you want to read an 
 update of the project and view the consultation process and results, f
 ollow this link.\r\nhttps://imaginegoldenlane.uk/cycling-and-walking/\
 n\nFor more information visit http://www.goldenlaneestate.org/events/g
 olden-lane-bike-project-planning-application-briefing-and-commun
DTSTART:20230520T143000Z
DTEND:20230520T160000Z
CATEGORIES:community, event
LOCATION:Ralph Perring Centre
WEBSITE:
URL:
CONTACT:
ORGANIZER:IMAGINE GOLDEN LANE AT NET ZERO
ATTACH;FMTTYPE="image/jpeg":
ATTENDEE;ROLE=REQ-PARTICIPANT;PARTSTAT=ACCEPTED;RSVP=TRUE;CN="Paul Lin
 coln":http://www.goldenlaneestate.org/profile/PALincoln
END:VEVENT
END:VCALENDAR
