BEGIN:VCALENDAR
PRODID:NingEventWidget-v1
VERSION:2.0
METHOD:PUBLISH
BEGIN:VEVENT
UID:2323372:Event:37158
DTSTAMP:20260425T124749Z
SUMMARY:Growbags to Gourmets Cookery Class - Winter Vegetables
DESCRIPTION:In this friendly, informal class trained chef and cookery 
 book author Laura Washburn will be teaching us how to make some lovely
  warming recipes using winter vegetables. We will be making a bean or 
 root vegetable soup, following by roasted squash (or pumpkin) and fini
 shing with an apple pudding.\nEverybody is welcome and there is no o
 bligation to even participate - you can just sit and watch and ask que
 stions.\nAll classes finish with a shared lunch of what we have cooked
 .   \nThe classes are free of charge, although donations towards the
  ingredients are always welcome.\n\nFor more information visit http://
 www.goldenlaneestate.org/events/growbags-to-gourmets-cookery-class-win
 ter-vegetables
DTSTART:20131011T093000Z
DTEND:20131011T120000Z
CATEGORIES:cookery, class
LOCATION:Central Street Cookery School
WEBSITE:http://www.centralstreet.org
URL:http://www.centralstreet.org
CONTACT:0207 549 8197
ORGANIZER;CN="Growing Connections at St Lukes":http://www.goldenlanees
 tate.org/profile/GrowingConnections
ATTACH;FMTTYPE="image/jpeg":http://storage.ning.com/topology/rest/1.0/
 file/get/2571573674?profile=original
ATTENDEE;ROLE=REQ-PARTICIPANT;PARTSTAT=ACCEPTED;RSVP=TRUE;CN="Growing 
 Connections at St Lukes":http://www.goldenlaneestate.org/profile/Growi
 ngConnections
ATTENDEE;ROLE=REQ-PARTICIPANT;PARTSTAT=TENTATIVE;RSVP=TRUE;CN="Steve D
 aszko":http://www.goldenlaneestate.org/profile/SteveDaszko
END:VEVENT
END:VCALENDAR
