BEGIN:VCALENDAR
PRODID:NingEventWidget-v1
VERSION:2.0
METHOD:PUBLISH
BEGIN:VEVENT
UID:2323372:Event:36192
DTSTAMP:20260424T154733Z
SUMMARY:Growbags to Gourmets Cookey Session
DESCRIPTION:The third monthly cookery class as part of the Growbags to
  Gourmets project will be based on fruit (previous sessions have focus
 ed on using herbs and different ways of cooking fish). \nTrained chef
  and cookery writer Laura Washburn will be showing us all how to make
  jam and use all those lovely summer fruits in different ways.\nThe c
 lass finishes with the group all having lunch together and eating some
  of the food that has been prepared.\n(Please note that this project i
 s for over 55s)\n\nFor more information visit http://www.goldenlaneest
 ate.org/events/growbags-to-gourmets-cookey-session
DTSTART:20130809T093000Z
DTEND:20130809T120000Z
CATEGORIES:cookery, class
LOCATION:Central Street Cookery School at St Luke's Community Centre
WEBSITE:http://www.slpt.org.uk
URL:http://www.slpt.org.uk
CONTACT:0207 549 8197
ORGANIZER;CN="Growing Connections at St Lukes":http://www.goldenlanees
 tate.org/profile/GrowingConnections
ATTACH;FMTTYPE="image/jpeg":
ATTENDEE;ROLE=REQ-PARTICIPANT;PARTSTAT=ACCEPTED;RSVP=TRUE;CN="Growing 
 Connections at St Lukes":http://www.goldenlaneestate.org/profile/Growi
 ngConnections
END:VEVENT
END:VCALENDAR
