BEGIN:VCALENDAR
PRODID:NingEventWidget-v1
VERSION:2.0
METHOD:PUBLISH
BEGIN:VEVENT
UID:2323372:Event:39336
DTSTAMP:20260425T042108Z
SUMMARY:Growbags to Gourmets Multicultural Gardening Group
DESCRIPTION:A new monthly gardening group for anybody over 55. We will
  having a go at growing some more exotic and unusual vegetables and he
 rbs.\nThe group will meet on the second Thursday of every month from 1
 1am-12pm in the first floor lounge.\n\nFor more information visit http
 ://www.goldenlaneestate.org/events/growbags-to-gourmets-multicultural-
 gardening-group
DTSTART:20140213T110000Z
DTEND:20140213T120000Z
CATEGORIES:gardening, group
LOCATION:St Luke's Community Centre
WEBSITE:http://www.slpt.org.uk
URL:http://www.slpt.org.uk
CONTACT:0207 549 8197
ORGANIZER;CN="Growing Connections at St Lukes":http://www.goldenlanees
 tate.org/profile/GrowingConnections
ATTACH;FMTTYPE="image/jpeg":
ATTENDEE;ROLE=REQ-PARTICIPANT;PARTSTAT=ACCEPTED;RSVP=TRUE;CN="Growing 
 Connections at St Lukes":http://www.goldenlaneestate.org/profile/Growi
 ngConnections
END:VEVENT
END:VCALENDAR
