BEGIN:VCALENDAR
PRODID:NingEventWidget-v1
VERSION:2.0
METHOD:PUBLISH
BEGIN:VEVENT
UID:2323372:Event:168940
DTSTAMP:20260420T154714Z
SUMMARY:GSMD Free Concerts and Performances
DESCRIPTION:Milton Court Concert Hall showcases performances by the Gu
 ildhall School’s stars of tomorrow and some of the School’s intern
 ationally-renowned alumni.\n\n1st April 6pm\nSongs at Six: Ouroboros C
 oncert\nWith music from Schubert, Schoenberg, Mitski and Muriel Herber
 t plus folk songs from China and Japan.\n\n22nd April 7.30pm\nDante, F
 rom Dusk to Dawn\nA musical-literary tribute by Alessandro Timossi to 
 the great Italian poet.\n\n25th April 1pm\nAdam Walker Flute Mastercla
 ss\nAdam is professor of flute at the Royal College of Music.\n\n28th 
 April 6pm\nStrings at Six: Luis Cabrera\nLuis leads a varied programme
  of String repertoire\n\nFor more information visit http://www.goldenl
 aneestate.org/events/gsmd-free-concerts-and-performances
DTSTART:20220401T170000Z
DTEND:20220428T180000Z
CATEGORIES:free, concert
LOCATION:Milton Court
WEBSITE:https://maps.apple.com/place?q=Guildhall%20School%20-%20Milton
 %20Court&amp;ll=51.52003801735323%2C-0.09063091076505679&amp;auid=4244
 165256731086658&amp;lsp=9902&amp;address=Milton%20Court%2C%201%20Silk%
 20Street%2C%20London%2C%20EC2Y%209BH%2C%20England
URL:https://maps.apple.com/place?q=Guildhall%20School%20-%20Milton%20C
 ourt&amp;ll=51.52003801735323%2C-0.09063091076505679&amp;auid=42441652
 56731086658&amp;lsp=9902&amp;address=Milton%20Court%2C%201%20Silk%20St
 reet%2C%20London%2C%20EC2Y%209BH%2C%20England
CONTACT:
ORGANIZER:GSMD
ATTACH;FMTTYPE="image/jpeg":https://storage.ning.com/topology/rest/1.0
 /file/get/10251976465?profile=original
ATTENDEE;ROLE=REQ-PARTICIPANT;PARTSTAT=ACCEPTED;RSVP=TRUE;CN="Gaby Rob
 ertshaw":http://www.goldenlaneestate.org/profile/GabyRobertshaw
END:VEVENT
END:VCALENDAR
