BEGIN:VCALENDAR
PRODID:NingEventWidget-v1
VERSION:2.0
METHOD:PUBLISH
BEGIN:VEVENT
UID:2323372:Event:40475
DTSTAMP:20260424T143102Z
SUMMARY:Healthwatch Event on the City Digest
DESCRIPTION:The City Digest reflects the needs of the City services us
 ers to ensure that services are appropriate to those who use them. Com
 e and join the discussion to ensure that your needs - now and in the 
 future will be catered for in the City.\n \nWe would like to hear you
 r views on how accurately the City Supplement reflects the needs of th
 e City’s service users: the document will be used to inform local co
 mmissioning, so we need to ensure that services are shaped in the way 
 that best suits the health needs of local people.\n \nDate      
          Thursday 1 May 2014\nVenue            Arti
 zan Street Library, 1 Artizan Street, E1 7AF\nTime          
       2.00-4.00pm\n \nPlease contact Janine Aldridge at healthwa
 tchcityoflondon@ageuklondon.org.uk or call\n020 7820 6787 to register 
 your attendance.\nRefreshments will be provided.\n \nWe look forward 
 to seeing you there.\n \nwww.healthwatchcityoflondon.org.uk\n\nFor mo
 re information visit http://www.goldenlaneestate.org/events/healthwatc
 h-event-on-the-city-digest
DTSTART:20140501T130000Z
DTEND:20140501T150000Z
CATEGORIES:discussion, event
LOCATION:Artizan Street Library, 1 Artizan Street, London E1 7AF
WEBSITE:http://www.cityoflondon.gov.uk/services/libraries-and-archives
 /lending-libraries/find-a-library/artizan-street-library-and-community
 -centre/Pages/default.aspx
URL:http://www.cityoflondon.gov.uk/services/libraries-and-archives/len
 ding-libraries/find-a-library/artizan-street-library-and-community-cen
 tre/Pages/default.aspx
CONTACT:
ORGANIZER;CN="Janine Aldridge":http://www.goldenlaneestate.org/profile
 /JanineAldridge
ATTACH;FMTTYPE="image/jpeg":
ATTENDEE;ROLE=REQ-PARTICIPANT;PARTSTAT=ACCEPTED;RSVP=TRUE;CN="Janine A
 ldridge":http://www.goldenlaneestate.org/profile/JanineAldridge
END:VEVENT
END:VCALENDAR
