BEGIN:VCALENDAR
PRODID:NingEventWidget-v1
VERSION:2.0
METHOD:PUBLISH
BEGIN:VEVENT
UID:2323372:Event:45161
DTSTAMP:20260424T150253Z
SUMMARY:Housing Management Sub-Committee Monday 27th April 13:45
DESCRIPTION:All those interested in Golden Lane Estate can hear the Ci
 ty's Councillors discuss the management of their Estate.\n Given the 
 recent incidents (collapse of wall claddings, electrical fire, failure
  of emergency out-of hours system) you might want to come along to the
  West Wing of The Guildhall [entrance at the corner of Gresham St. & A
 ldermanbury] to hear what, if anything, they have to say aboutour Esta
 te.\n\nFor more information visit http://www.goldenlaneestate.org/even
 ts/housing-management-sub-committee-monday-27th-april-13-45
DTSTART:20150427T124500Z
DTEND:20150427T143000Z
CATEGORIES:public
LOCATION:Guildhall [West Wing]
WEBSITE:
URL:
CONTACT:020 7332 1426
ORGANIZER:City of London
ATTACH;FMTTYPE="image/jpeg":
ATTENDEE;ROLE=REQ-PARTICIPANT;PARTSTAT=ACCEPTED;RSVP=TRUE;CN="David Kr
 eikmeier-Watson":http://www.goldenlaneestate.org/profile/DavidKreikmei
 erWatson
END:VEVENT
END:VCALENDAR
