BEGIN:VCALENDAR
PRODID:NingEventWidget-v1
VERSION:2.0
METHOD:PUBLISH
BEGIN:VEVENT
UID:2323372:Event:171799
DTSTAMP:20260420T141435Z
SUMMARY:Hustings for March By-elections
DESCRIPTION:\n\nFor more information visit http://www.goldenlaneestate
 .org/events/hustings-for-march-by-elections
DTSTART:20230306T190000Z
DTEND:20230306T210000Z
CATEGORIES:hustings
LOCATION:Golden Lane Community Centre
WEBSITE:
URL:
CONTACT:
ORGANIZER:GLERA + Barbican Association
ATTACH;FMTTYPE="image/jpeg":https://storage.ning.com/topology/rest/1.0
 /file/get/10971896053?profile=original
ATTENDEE;ROLE=REQ-PARTICIPANT;PARTSTAT=ACCEPTED;RSVP=TRUE;CN="GLE Webs
 ite Comms Team":http://www.goldenlaneestate.org/profile/GLEComms
END:VEVENT
END:VCALENDAR
