BEGIN:VCALENDAR
PRODID:NingEventWidget-v1
VERSION:2.0
METHOD:PUBLISH
BEGIN:VEVENT
UID:2323372:Event:170018
DTSTAMP:20260419T162950Z
SUMMARY:HUSTINGS for  September's Aldermanic Elections
DESCRIPTION: \r\n\r\n\r\n\r\n\r\n\n\nFor more information visit http:/
 /www.goldenlaneestate.org/events/hustings-for-september-s-aldermanic-e
 lections
DTSTART:20220901T180000Z
DTEND:20220901T200000Z
CATEGORIES:hustings
LOCATION:St Giles Church, Barbican
WEBSITE:
URL:
CONTACT:
ORGANIZER:
ATTACH;FMTTYPE="image/jpeg":
ATTENDEE;ROLE=REQ-PARTICIPANT;PARTSTAT=ACCEPTED;RSVP=TRUE;CN="GLE Webs
 ite Comms Team":http://www.goldenlaneestate.org/profile/GLEComms
END:VEVENT
END:VCALENDAR
